BEGIN:VCALENDAR
VERSION:2.0
PRODID:-//NRI - ECPv6.15.20//NONSGML v1.0//EN
CALSCALE:GREGORIAN
METHOD:PUBLISH
X-ORIGINAL-URL:https://nri-na.com
X-WR-CALDESC:Events for NRI
REFRESH-INTERVAL;VALUE=DURATION:PT1H
X-Robots-Tag:noindex
X-PUBLISHED-TTL:PT1H
BEGIN:VTIMEZONE
TZID:America/New_York
BEGIN:DAYLIGHT
TZOFFSETFROM:-0500
TZOFFSETTO:-0400
TZNAME:EDT
DTSTART:20250309T070000
END:DAYLIGHT
BEGIN:STANDARD
TZOFFSETFROM:-0400
TZOFFSETTO:-0500
TZNAME:EST
DTSTART:20251102T060000
END:STANDARD
BEGIN:DAYLIGHT
TZOFFSETFROM:-0500
TZOFFSETTO:-0400
TZNAME:EDT
DTSTART:20260308T070000
END:DAYLIGHT
BEGIN:STANDARD
TZOFFSETFROM:-0400
TZOFFSETTO:-0500
TZNAME:EST
DTSTART:20261101T060000
END:STANDARD
BEGIN:DAYLIGHT
TZOFFSETFROM:-0500
TZOFFSETTO:-0400
TZNAME:EDT
DTSTART:20270314T070000
END:DAYLIGHT
BEGIN:STANDARD
TZOFFSETFROM:-0400
TZOFFSETTO:-0500
TZNAME:EST
DTSTART:20271107T060000
END:STANDARD
END:VTIMEZONE
BEGIN:VEVENT
DTSTART;TZID=America/New_York:20260308T080000
DTEND;TZID=America/New_York:20260310T170000
DTSTAMP:20260422T183828
CREATED:20260209T212718Z
LAST-MODIFIED:20260209T212718Z
UID:52861-1772956800-1773162000@nri-na.com
SUMMARY:Brainstorm Education Technology Conference
DESCRIPTION:Stop by Booth 403 to meet NRI experts and learn how schools are simplifying IT operations while building secure\, scalable environments that support teaching and learning. You won’t want to miss our featured Brainstorm Session\, led by NRI’s John Anderson\, Senior Solutions Architect: Meraki Made Easy: From Splash Pad to Deep Dive in the Waterpark Capital of the World.
URL:https://nri-na.com/event/brainstorm-education-technology-conference/
LOCATION:Wisconsin Dells
CATEGORIES:In-Person
ATTACH;FMTTYPE=image/jpeg:https://nri-na.com/wp-content/uploads/2026/02/Brainstorm-Education-Conference-Hero-Image-1880x1200-1.jpg
END:VEVENT
BEGIN:VEVENT
DTSTART;TZID=America/New_York:20260316T080000
DTEND;TZID=America/New_York:20260320T170000
DTSTAMP:20260422T183828
CREATED:20260209T211309Z
LAST-MODIFIED:20260209T211309Z
UID:52856-1773648000-1774026000@nri-na.com
SUMMARY:FABCON - Microsoft Fabric Community Conference
DESCRIPTION:If you are attending this year’s FABCON in Atlanta\, be sure to stop by Sponsor Booth #218 to connect with NRI’s Microsoft Fabric and data platform experts. We will be showcasing live demos with real-world use cases and practical solutions designed to help organizations move faster with reliable\, governed\, and actionable data.
URL:https://nri-na.com/event/fabcon-microsoft-fabric-community-conference/
LOCATION:Atlanta\, GA
CATEGORIES:In-Person
ATTACH;FMTTYPE=image/jpeg:https://nri-na.com/wp-content/uploads/2026/02/FabCon-Hero-Image-1880x1200-1.jpg
END:VEVENT
BEGIN:VEVENT
DTSTART;TZID=America/New_York:20260323T080000
DTEND;TZID=America/New_York:20260326T170000
DTSTAMP:20260422T183828
CREATED:20260209T212406Z
LAST-MODIFIED:20260209T212406Z
UID:52859-1774252800-1774544400@nri-na.com
SUMMARY:RSAC 2026 Conference
DESCRIPTION:Stop by Booth N-4623 for practical insights\, real-world experience\, and free advice from top security professionals. Connect one-on-one with NRI’s cybersecurity experts for personalized guidance on strengthening your security environment.
URL:https://nri-na.com/event/rsac-2026-conference/
LOCATION:San Francisco\, CA
CATEGORIES:In-Person
ATTACH;FMTTYPE=image/png:https://nri-na.com/wp-content/uploads/2025/03/General-Conference-LP-Image-550x505-1-min.png
END:VEVENT
BEGIN:VEVENT
DTSTART;TZID=America/New_York:20260324T080000
DTEND;TZID=America/New_York:20260326T170000
DTSTAMP:20260422T183828
CREATED:20260304T184508Z
LAST-MODIFIED:20260304T184508Z
UID:53000-1774339200-1774544400@nri-na.com
SUMMARY:Microsoft Global Nonprofit Leaders Summit
DESCRIPTION:The Microsoft Global Nonprofit Leadership Summit brings together nonprofit leaders and technology partners focused on advancing mission impact through innovation. NRI is proud to be onsite for this year’s event and looking forward to connecting with nonprofit organizations who are shaping the future of their communities through data and technology.
URL:https://nri-na.com/event/microsoft-global-nonprofit-leaders-summit/
LOCATION:Bellevue\, WA
CATEGORIES:In-Person
ATTACH;FMTTYPE=image/jpeg:https://nri-na.com/wp-content/uploads/2026/03/MSFT-Global-Nonprofit-Leaders-Summit-Hero-Image-1880x1200-1.jpg
END:VEVENT
BEGIN:VEVENT
DTSTART;TZID=America/New_York:20260331T080000
DTEND;TZID=America/New_York:20260331T150000
DTSTAMP:20260422T183828
CREATED:20260203T174001Z
LAST-MODIFIED:20260204T182252Z
UID:52835-1774944000-1774969200@nri-na.com
SUMMARY:AI Is Already Deciding: From Invisible Decisions to Owned Outcomes
DESCRIPTION:AI is no longer a tool—it is becoming the cognitive infrastructure of the modern enterprise. This summit challenges leaders to imagine a future where autonomous systems\, governed with precision\, accelerate innovation while strengthening digital trust.
URL:https://nri-na.com/event/ai-is-already-deciding-architecting-the-intelligent-enterprise/
LOCATION:Orlando\, FL
CATEGORIES:In-Person
ATTACH;FMTTYPE=image/jpeg:https://nri-na.com/wp-content/uploads/2026/02/AI-Workshop-Orlando-FL-Hero-Image-1880x1200-1.jpg
END:VEVENT
BEGIN:VEVENT
DTSTART;TZID=America/New_York:20260528T130000
DTEND;TZID=America/New_York:20260528T140000
DTSTAMP:20260422T183828
CREATED:20260408T173305Z
LAST-MODIFIED:20260408T173305Z
UID:53179-1779973200-1779976800@nri-na.com
SUMMARY:Modernize Your Infrastructure: From On‑Prem to Azure
DESCRIPTION:In this session\, Microsoft and NRI are partnering to break down what modernization really looks like\, why now is the right time\, and how to take practical\, low‑risk steps toward cloud migration using proven Microsoft tools and partner expertise.
URL:https://nri-na.com/event/modernize-your-infrastructure-from-on-prem-to-azure/
CATEGORIES:Webinar
ATTACH;FMTTYPE=image/png:https://nri-na.com/wp-content/uploads/2026/04/Modernize-Your-Infrastructure-Webinar-285x170-1.png
END:VEVENT
BEGIN:VEVENT
DTSTART;TZID=America/New_York:20260617T130000
DTEND;TZID=America/New_York:20260617T140000
DTSTAMP:20260422T183828
CREATED:20260408T173011Z
LAST-MODIFIED:20260408T173100Z
UID:53176-1781701200-1781704800@nri-na.com
SUMMARY:Digital Workspace Evolution in Healthcare
DESCRIPTION:In this executive briefing\, healthcare leaders will learn about digital workspace evolution and how cloud platforms are essential for care delivery\, security\, and efficiency. You’ll see how organizations modernize collaboration\, cut licensing waste\, and strengthen compliance without disrupting patient care.
URL:https://nri-na.com/event/digital-workspace-evolution-in-healthcare/
LOCATION:Online Webinar
CATEGORIES:Webinar
ATTACH;FMTTYPE=image/jpeg:https://nri-na.com/wp-content/uploads/2026/04/Digital-Workspace-Evolution-in-Healthcare-Hero-Image-1880x1200-1.jpg
END:VEVENT
END:VCALENDAR