BEGIN:VCALENDAR
VERSION:2.0
PRODID:-//NRI - ECPv6.15.20//NONSGML v1.0//EN
CALSCALE:GREGORIAN
METHOD:PUBLISH
X-WR-CALNAME:NRI
X-ORIGINAL-URL:https://nri-na.com
X-WR-CALDESC:Events for NRI
REFRESH-INTERVAL;VALUE=DURATION:PT1H
X-Robots-Tag:noindex
X-PUBLISHED-TTL:PT1H
BEGIN:VTIMEZONE
TZID:America/New_York
BEGIN:DAYLIGHT
TZOFFSETFROM:-0500
TZOFFSETTO:-0400
TZNAME:EDT
DTSTART:20240310T070000
END:DAYLIGHT
BEGIN:STANDARD
TZOFFSETFROM:-0400
TZOFFSETTO:-0500
TZNAME:EST
DTSTART:20241103T060000
END:STANDARD
BEGIN:DAYLIGHT
TZOFFSETFROM:-0500
TZOFFSETTO:-0400
TZNAME:EDT
DTSTART:20250309T070000
END:DAYLIGHT
BEGIN:STANDARD
TZOFFSETFROM:-0400
TZOFFSETTO:-0500
TZNAME:EST
DTSTART:20251102T060000
END:STANDARD
BEGIN:DAYLIGHT
TZOFFSETFROM:-0500
TZOFFSETTO:-0400
TZNAME:EDT
DTSTART:20260308T070000
END:DAYLIGHT
BEGIN:STANDARD
TZOFFSETFROM:-0400
TZOFFSETTO:-0500
TZNAME:EST
DTSTART:20261101T060000
END:STANDARD
BEGIN:DAYLIGHT
TZOFFSETFROM:-0500
TZOFFSETTO:-0400
TZNAME:EDT
DTSTART:20270314T070000
END:DAYLIGHT
BEGIN:STANDARD
TZOFFSETFROM:-0400
TZOFFSETTO:-0500
TZNAME:EST
DTSTART:20271107T060000
END:STANDARD
END:VTIMEZONE
BEGIN:VTIMEZONE
TZID:America/Chicago
BEGIN:DAYLIGHT
TZOFFSETFROM:-0600
TZOFFSETTO:-0500
TZNAME:CDT
DTSTART:20240310T080000
END:DAYLIGHT
BEGIN:STANDARD
TZOFFSETFROM:-0500
TZOFFSETTO:-0600
TZNAME:CST
DTSTART:20241103T070000
END:STANDARD
BEGIN:DAYLIGHT
TZOFFSETFROM:-0600
TZOFFSETTO:-0500
TZNAME:CDT
DTSTART:20250309T080000
END:DAYLIGHT
BEGIN:STANDARD
TZOFFSETFROM:-0500
TZOFFSETTO:-0600
TZNAME:CST
DTSTART:20251102T070000
END:STANDARD
BEGIN:DAYLIGHT
TZOFFSETFROM:-0600
TZOFFSETTO:-0500
TZNAME:CDT
DTSTART:20260308T080000
END:DAYLIGHT
BEGIN:STANDARD
TZOFFSETFROM:-0500
TZOFFSETTO:-0600
TZNAME:CST
DTSTART:20261101T070000
END:STANDARD
END:VTIMEZONE
BEGIN:VEVENT
DTSTART;TZID=America/New_York:20260316T080000
DTEND;TZID=America/New_York:20260320T170000
DTSTAMP:20260422T175558
CREATED:20260209T211309Z
LAST-MODIFIED:20260209T211309Z
UID:52856-1773648000-1774026000@nri-na.com
SUMMARY:FABCON - Microsoft Fabric Community Conference
DESCRIPTION:If you are attending this year’s FABCON in Atlanta\, be sure to stop by Sponsor Booth #218 to connect with NRI’s Microsoft Fabric and data platform experts. We will be showcasing live demos with real-world use cases and practical solutions designed to help organizations move faster with reliable\, governed\, and actionable data.
URL:https://nri-na.com/event/fabcon-microsoft-fabric-community-conference/
LOCATION:Atlanta\, GA
CATEGORIES:In-Person
ATTACH;FMTTYPE=image/jpeg:https://nri-na.com/wp-content/uploads/2026/02/FabCon-Hero-Image-1880x1200-1.jpg
END:VEVENT
BEGIN:VEVENT
DTSTART;TZID=America/New_York:20260308T080000
DTEND;TZID=America/New_York:20260310T170000
DTSTAMP:20260422T175558
CREATED:20260209T212718Z
LAST-MODIFIED:20260209T212718Z
UID:52861-1772956800-1773162000@nri-na.com
SUMMARY:Brainstorm Education Technology Conference
DESCRIPTION:Stop by Booth 403 to meet NRI experts and learn how schools are simplifying IT operations while building secure\, scalable environments that support teaching and learning. You won’t want to miss our featured Brainstorm Session\, led by NRI’s John Anderson\, Senior Solutions Architect: Meraki Made Easy: From Splash Pad to Deep Dive in the Waterpark Capital of the World.
URL:https://nri-na.com/event/brainstorm-education-technology-conference/
LOCATION:Wisconsin Dells
CATEGORIES:In-Person
ATTACH;FMTTYPE=image/jpeg:https://nri-na.com/wp-content/uploads/2026/02/Brainstorm-Education-Conference-Hero-Image-1880x1200-1.jpg
END:VEVENT
BEGIN:VEVENT
DTSTART;TZID=America/New_York:20251028T080000
DTEND;TZID=America/New_York:20251030T170000
DTSTAMP:20260422T175558
CREATED:20250711T150039Z
LAST-MODIFIED:20250711T150200Z
UID:52079-1761638400-1761843600@nri-na.com
SUMMARY:From Setback to Comeback: Positive Approaches to Layoff Preparedness and Future-Proofing Our Cybersecurity Careers
DESCRIPTION:While we readily discuss threats and risks within our networks\, we often avoid addressing the vulnerabilities in our own careers. Career preparedness and sustainability are rarely taught\, leaving many unprepared until it’s too late. Join NRI’s Anastasia Kim and ADL’s Elizabeth Houser as they discuss key concepts and approaches to career resilience\, from mentorship and tooling to networking and strategic career planning. This positive and empowering session serves as a call to action to embrace change and proactively manage career development.
URL:https://nri-na.com/event/from-setback-to-comeback-positive-approaches-to-layoff-preparedness-and-future-proofing-our-cybersecurity-careers/
LOCATION:Nashville\, TN or Virtual
CATEGORIES:In-Person,Virtual
ATTACH;FMTTYPE=image/png:https://nri-na.com/wp-content/uploads/2025/07/ISC2-Security-Congress-2025-Event-Listing-550x505-1.png
END:VEVENT
BEGIN:VEVENT
DTSTART;TZID=America/Chicago:20251022T083000
DTEND;TZID=America/Chicago:20251022T163000
DTSTAMP:20260422T175558
CREATED:20250813T183718Z
LAST-MODIFIED:20250813T183956Z
UID:52237-1761121800-1761150600@nri-na.com
SUMMARY:NRI Security Conference - Madison\, WI
DESCRIPTION:In the modern digital world\, trust is not an option. The NRI Security Conference is an annual forum for collaboration\, innovation and learning in the rapidly changing field of digital protection taking place in-person in Pennsylvania. Our Madison event will host live streaming of key conference presentations\, alongside in-person keynote speeches and discussions.
URL:https://nri-na.com/event/nri-security-conference-madison-wi/
LOCATION:Madison\, WI
CATEGORIES:In-Person
ATTACH;FMTTYPE=image/jpeg:https://nri-na.com/wp-content/uploads/2025/07/2025-Security-Conference-550x505-1.jpg
END:VEVENT
BEGIN:VEVENT
DTSTART;TZID=America/New_York:20251022T080000
DTEND;TZID=America/New_York:20251022T160000
DTSTAMP:20260422T175558
CREATED:20250813T183036Z
LAST-MODIFIED:20250813T184100Z
UID:52235-1761120000-1761148800@nri-na.com
SUMMARY:NRI Security Conference - Green Bay\, WI
DESCRIPTION:In the modern digital world\, trust is not an option. The NRI Security Conference is an annual forum for collaboration\, innovation and learning in the rapidly changing field of digital protection taking place in-person in Pennsylvania. Our Green Bay event will host live streaming of key conference presentations\, alongside in-person keynote speeches and discussions.
URL:https://nri-na.com/event/nri-security-conference-green-bay-wi/
LOCATION:Green Bay\, WI
CATEGORIES:In-Person
ATTACH;FMTTYPE=image/jpeg:https://nri-na.com/wp-content/uploads/2025/07/2025-Security-Conference-550x505-1.jpg
END:VEVENT
BEGIN:VEVENT
DTSTART;TZID=America/New_York:20251022T073000
DTEND;TZID=America/New_York:20251022T153000
DTSTAMP:20260422T175558
CREATED:20250730T210010Z
LAST-MODIFIED:20250730T210010Z
UID:52164-1761118200-1761147000@nri-na.com
SUMMARY:NRI Security Conference
DESCRIPTION:In the modern digital world\, trust is not an option. The NRI Security Conference is a forum for collaboration\, innovation and learning. This comprehensive conference will feature over 200 NRI customers\, subject matter experts\, thought leaders\, and industry experts featuring keynote speeches\, vendor showcases and more.
URL:https://nri-na.com/event/nri-security-conference/
LOCATION:King of Prussia\, PA
CATEGORIES:In-Person,Virtual
ATTACH;FMTTYPE=image/jpeg:https://nri-na.com/wp-content/uploads/2025/07/2025-Security-Conference-550x505-1.jpg
END:VEVENT
BEGIN:VEVENT
DTSTART;TZID=America/New_York:20250930T120000
DTEND;TZID=America/New_York:20250930T130000
DTSTAMP:20260422T175558
CREATED:20250813T184407Z
LAST-MODIFIED:20250904T171204Z
UID:52239-1759233600-1759237200@nri-na.com
SUMMARY:From Reports to Results: Building a Data Platform that Drives Business Value
DESCRIPTION:As organizations strive to become more data-driven\, many leaders find themselves grappling with the gap between reporting and results. The session will highlight key considerations for aligning data strategy with business goals\, ensuring that technology investments translate into measurable outcomes.
URL:https://nri-na.com/event/from-reports-to-results-building-a-data-platform-that-drives-business-value/
LOCATION:Online Webinar
CATEGORIES:Webinar
ATTACH;FMTTYPE=image/png:https://nri-na.com/wp-content/uploads/2025/07/Why-Strategy-Fails-Webinar-Event-Listing-550x505-1.png
END:VEVENT
BEGIN:VEVENT
DTSTART;TZID=America/New_York:20250917T120000
DTEND;TZID=America/New_York:20250917T130000
DTSTAMP:20260422T175558
CREATED:20250827T144815Z
LAST-MODIFIED:20250827T144815Z
UID:52262-1758110400-1758114000@nri-na.com
SUMMARY:The Strategy Refresh: When and How to Reevaluate Your Roadmap
DESCRIPTION:In this new webinar from NRI\, we will explore the signals that indicate that it’s time for a strategy refresh—and the frameworks that will help you do it effectively.
URL:https://nri-na.com/event/the-strategy-refresh-when-and-how-to-reevaluate-your-roadmap/
LOCATION:Online Webinar
CATEGORIES:Webinar
ATTACH;FMTTYPE=image/png:https://nri-na.com/wp-content/uploads/2025/08/The-Strategy-Refresh-Webinar-Hero-Image-1880x1200-1.png
END:VEVENT
BEGIN:VEVENT
DTSTART;TZID=America/New_York:20250914T080000
DTEND;TZID=America/New_York:20250918T170000
DTSTAMP:20260422T175558
CREATED:20250731T160358Z
LAST-MODIFIED:20250731T160358Z
UID:52166-1757836800-1758214800@nri-na.com
SUMMARY:TribalNet Conference & Tradeshow
DESCRIPTION:NRI will be at the TribalNet Conference & Tradeshow as a Diamond Sponsor — and we’re looking forward to connecting with tribal leaders and technology professionals from across the country. Be sure to stop by booth #324 to meet the team and enter for a chance to win a travel voucher or a new drone!
URL:https://nri-na.com/event/tribalnet-conference-tradeshow/
LOCATION:Reno\, NV
CATEGORIES:In-Person
ATTACH;FMTTYPE=image/png:https://nri-na.com/wp-content/uploads/2025/07/TribalNet-Conference-550x505-1.png
END:VEVENT
BEGIN:VEVENT
DTSTART;TZID=America/New_York:20250806T120000
DTEND;TZID=America/New_York:20250806T130000
DTSTAMP:20260422T175558
CREATED:20250709T185613Z
LAST-MODIFIED:20250717T162006Z
UID:52048-1754481600-1754485200@nri-na.com
SUMMARY:Data Strategies for AI Readiness
DESCRIPTION:Join us for a strategic look into what it really takes to prepare your data for AI. We’ll cut through the hype and focus on practical\, executive-level insights that align your data infrastructure with your business goals. If you’re responsible for driving innovation\, digital transformation\, or data strategy\, this is a must-attend session.
URL:https://nri-na.com/event/ai-readiness-data-strategies/
LOCATION:Online Webinar
CATEGORIES:Webinar
ATTACH;FMTTYPE=image/png:https://nri-na.com/wp-content/uploads/2025/07/AI-Readiness-Data-Strategies-Webinar-Event-Listing-550x505-1.png
END:VEVENT
BEGIN:VEVENT
DTSTART;TZID=America/New_York:20250730T120000
DTEND;TZID=America/New_York:20250730T130000
DTSTAMP:20260422T175558
CREATED:20250701T172038Z
LAST-MODIFIED:20250701T173000Z
UID:51929-1753876800-1753880400@nri-na.com
SUMMARY:Why Strategy Fails
DESCRIPTION:During this engaging session\, we will introduce you to the factors that contribute to failed strategy on a corporate\, division or project basis. We’ll cover the approach to evaluate gaps in your current strategy\, and help you understand the importance of aligning your initiatives with your company’s vision through execution.
URL:https://nri-na.com/event/why-strategy-fails/
LOCATION:Online Webinar
CATEGORIES:Webinar
ATTACH;FMTTYPE=image/png:https://nri-na.com/wp-content/uploads/2025/07/Why-Strategy-Fails-Webinar-Event-Listing-550x505-1.png
END:VEVENT
BEGIN:VEVENT
DTSTART;TZID=America/New_York:20250716T113000
DTEND;TZID=America/New_York:20250716T143000
DTSTAMP:20260422T175558
CREATED:20250613T134923Z
LAST-MODIFIED:20250613T135209Z
UID:51669-1752665400-1752676200@nri-na.com
SUMMARY:Secure Your Data\, Ensure Your Edge - King of Prussia
DESCRIPTION:Safeguarding your company’s data is essential for sustaining a competitive advantage and fulfilling customer needs. Join us for an intimate roundtable discussion where we will explore how to secure access to both data and applications within your environment and how to defend against potential threats.
URL:https://nri-na.com/event/secure-your-data-ensure-your-edge/
LOCATION:King of Prussia\, PA
CATEGORIES:In-Person
ATTACH;FMTTYPE=image/png:https://nri-na.com/wp-content/uploads/2025/06/Secure-Your-Data-Ensure-Your-Edge-Roundtable-Event_LP-Image-550x505-1.png
END:VEVENT
BEGIN:VEVENT
DTSTART;TZID=America/New_York:20250624T120000
DTEND;TZID=America/New_York:20250624T130000
DTSTAMP:20260422T175558
CREATED:20250507T180221Z
LAST-MODIFIED:20250528T192837Z
UID:51218-1750766400-1750770000@nri-na.com
SUMMARY:Agentic AI: Navigating the Next Wave of Digital Transformation
DESCRIPTION:Join us for an insightful webinar on “Introduction to Agentic AI\,” where we delve into the fascinating world of intelligent agents that can autonomously make decisions and take actions. This session will provide a comprehensive understanding of Agentic AI\, exploring its key concepts\, real-world applications\, and the technical foundations that make it possible.
URL:https://nri-na.com/event/agentic-ai-navigating-the-next-wave-of-digital-transformation/
LOCATION:Online Webinar
CATEGORIES:Webinar
ATTACH;FMTTYPE=image/png:https://nri-na.com/wp-content/uploads/2025/05/Agentic-AI-Webinar-LP-Image-550x505-1.png
END:VEVENT
BEGIN:VEVENT
DTSTART;TZID=America/New_York:20250611T120000
DTEND;TZID=America/New_York:20250611T130000
DTSTAMP:20260422T175558
CREATED:20250507T180439Z
LAST-MODIFIED:20250508T015308Z
UID:51220-1749643200-1749646800@nri-na.com
SUMMARY:Getting Started with Microsoft Copilot Studio
DESCRIPTION:Microsoft Copilot Studio offers a suite of innovative features designed to assist with content creation\, data analysis\, and project management\, making it an invaluable asset for professionals across various industries. By learning how to effectively utilize Microsoft Copilot Studio\, attendees will gain a competitive edge\, enabling them to work smarter and achieve their goals more efficiently.
URL:https://nri-na.com/event/getting-started-with-microsoft-copilot-studio/
LOCATION:Online Webinar
CATEGORIES:Webinar
ATTACH;FMTTYPE=image/png:https://nri-na.com/wp-content/uploads/2025/05/Getting-Started-with-Microsoft-Copilot-Studio-Webinar-LP-Image-550x505-1.png
END:VEVENT
BEGIN:VEVENT
DTSTART;TZID=America/New_York:20250610T165500
DTEND;TZID=America/New_York:20250610T180000
DTSTAMP:20260422T175558
CREATED:20240610T213439Z
LAST-MODIFIED:20250423T234010Z
UID:50355-1749574500-1749578400@nri-na.com
SUMMARY:Strategically Drive Agility @ BBC 2025
DESCRIPTION:Join NRI’s very own Lora McCoy and Rachel Rieck as they explore the balance between strategy and execution in a fast-paced world. This session will highlight why strategic thinking is more important than ever and how to build excitement and engagement around it. Attendees will walk away with practical insights on executing strategy efficiently while driving sustainable change. \n\n  REGISTER NOW
URL:https://nri-na.com/event/strategically-drive-agility-bbc-2025/
LOCATION:Phoenix\, AZ
CATEGORIES:In-Person
ATTACH;FMTTYPE=image/jpeg:https://nri-na.com/wp-content/uploads/2025/03/strategically-drive-agility-min.jpg
END:VEVENT
BEGIN:VEVENT
DTSTART;TZID=America/New_York:20250520T120000
DTEND;TZID=America/New_York:20250520T130000
DTSTAMP:20260422T175558
CREATED:20250505T195218Z
LAST-MODIFIED:20250505T195218Z
UID:51201-1747742400-1747746000@nri-na.com
SUMMARY:Navigating Your Path to Windows 11 Success: Unlocking the Full Potential
DESCRIPTION:In this online session\, we’ll provide you with a strategic overview of the benefits that Windows 11 brings to your organization\, cover the common misconceptions and pitfalls organizations face when upgrading on their own\, and share what a successful deployment strategy looks like.
URL:https://nri-na.com/event/navigating-your-path-to-windows-11-success-unlocking-the-full-potential/
LOCATION:Online Webinar
CATEGORIES:Webinar
ATTACH;FMTTYPE=image/jpeg:https://nri-na.com/wp-content/uploads/2025/05/MSFT-Windows-11-Square.jpg
END:VEVENT
BEGIN:VEVENT
DTSTART;VALUE=DATE:20250426
DTEND;VALUE=DATE:20250427
DTSTAMP:20260422T175558
CREATED:20240426T213231Z
LAST-MODIFIED:20250423T234056Z
UID:50352-1745625600-1745711999@nri-na.com
SUMMARY:How to Store & Display Video in SharePoint & Teams
DESCRIPTION:Join NRI’s Karen Dredske as she shares best practices for organizing and displaying videos in Microsoft 365. Karen will walk attendees through building a video portal\, managing content across SharePoint\, Teams\, and OneDrive\, and utilizing different web parts to enhance video accessibility. Plus\, she’ll showcase exciting new features in the latest Stream app to help organizations optimize their video strategies. \nREGISTER NOW
URL:https://nri-na.com/event/how-to-store-display-video-in-sharepoint-teams/
LOCATION:Microsoft MTC\, 45 Liberty Blvd\, Malvern\, PA\, 19355\, United States
CATEGORIES:In-Person
ATTACH;FMTTYPE=image/jpeg:https://nri-na.com/wp-content/uploads/2025/03/how-to-store-and-display-video-in-sharepoint-and-microsoft-teams-min.jpg
END:VEVENT
BEGIN:VEVENT
DTSTART;TZID=America/New_York:20250424T120000
DTEND;TZID=America/New_York:20250424T130000
DTSTAMP:20260422T175558
CREATED:20240425T031934Z
LAST-MODIFIED:20250414T140830Z
UID:51040-1745496000-1745499600@nri-na.com
SUMMARY:The State of AI in 2025 – What’s Next?
DESCRIPTION:Join us for The State of AI in 2025\, where NRI’s AI expert Greg Levenhagen and Microsoft’s Jacquelyn Crowhurst will provide an in-depth analysis of the current AI landscape and predictions for the year ahead. We’ll explore the latest advancements\, challenges\, and opportunities as organizations continue their AI adoption journey.
URL:https://nri-na.com/event/the-state-of-ai-in-2025-whats-next/
LOCATION:Online Webinar
CATEGORIES:Webinar
ATTACH;FMTTYPE=image/png:https://nri-na.com/wp-content/uploads/2025/04/State-of-AI-2025-LP-Image-550x505-1.png
END:VEVENT
BEGIN:VEVENT
DTSTART;TZID=America/New_York:20250331T080000
DTEND;TZID=America/New_York:20250402T170000
DTSTAMP:20260422T175558
CREATED:20240331T212722Z
LAST-MODIFIED:20250407T105244Z
UID:50349-1743408000-1743613200@nri-na.com
SUMMARY:Microsoft Fabric Community Conference
DESCRIPTION:Our team is heading to Microsoft Fabric Conference in Las Vegas\, and we can’t wait to connect with you! Stop by booth #230 to meet our experts and explore how we can help you accelerate innovation and drive data-driven decisions. \n\n  REGISTER NOW
URL:https://nri-na.com/event/microsoft-fabric-community-conference/
LOCATION:Las Vegas\, NV
CATEGORIES:In-Person
ATTACH;FMTTYPE=image/png:https://nri-na.com/wp-content/uploads/2025/03/General-Conference-LP-Image-550x505-1-min.png
END:VEVENT
END:VCALENDAR